BEGIN:VCALENDAR
VERSION:2.0
PRODID:-//Endon with Stanley Parish Council//Meeting Calendar//EN
CALSCALE:GREGORIAN
METHOD:PUBLISH
BEGIN:VEVENT
UID:70461-20250812@endonwithstanley-pc.gov.uk
DTSTAMP:20260424T085229Z
DTSTART;VALUE=DATE:20250812
DTEND;VALUE=DATE:20250813
SUMMARY:Full Council Meeting &#8211\\; August 2025
DESCRIPTION:Full Council Meeting\nView details: https://endonwithstanley-pc.gov.uk/meetings/full-council-meeting-12-august-2025/
URL:https://endonwithstanley-pc.gov.uk/meetings/full-council-meeting-12-august-2025/
END:VEVENT
END:VCALENDAR
