BEGIN:VCALENDAR
VERSION:2.0
PRODID:-//Endon with Stanley Parish Council//Meeting Calendar//EN
CALSCALE:GREGORIAN
METHOD:PUBLISH
BEGIN:VEVENT
UID:70465-20250513@endonwithstanley-pc.gov.uk
DTSTAMP:20260421T082237Z
DTSTART;VALUE=DATE:20250513
DTEND;VALUE=DATE:20250514
SUMMARY:Annual Parish Meeting &#8211\\; May 2025
DESCRIPTION:Annual Parish Meeting\nView details: https://endonwithstanley-pc.gov.uk/meetings/annual-parish-meeting-13-may-2025/
URL:https://endonwithstanley-pc.gov.uk/meetings/annual-parish-meeting-13-may-2025/
END:VEVENT
END:VCALENDAR
