BEGIN:VCALENDAR
VERSION:2.0
PRODID:-//Endon with Stanley Parish Council//Meeting Calendar//EN
CALSCALE:GREGORIAN
METHOD:PUBLISH
BEGIN:VEVENT
UID:70467-20250408@endonwithstanley-pc.gov.uk
DTSTAMP:20260424T084502Z
DTSTART;VALUE=DATE:20250408
DTEND;VALUE=DATE:20250409
SUMMARY:Full Council Meeting &#8211\\; April 2025
DESCRIPTION:Full Council Meeting\nView details: https://endonwithstanley-pc.gov.uk/meetings/full-council-meeting-8-april-2025/
URL:https://endonwithstanley-pc.gov.uk/meetings/full-council-meeting-8-april-2025/
END:VEVENT
END:VCALENDAR
