BEGIN:VCALENDAR
VERSION:2.0
PRODID:-//Endon with Stanley Parish Council//Meeting Calendar//EN
CALSCALE:GREGORIAN
METHOD:PUBLISH
BEGIN:VEVENT
UID:70626-20251111@endonwithstanley-pc.gov.uk
DTSTAMP:20260419T163647Z
DTSTART;VALUE=DATE:20251111
DTEND;VALUE=DATE:20251112
SUMMARY:Full Council Meeting &#8211\\; 11th November 2025
DESCRIPTION:Full Council Meeting\nView details: https://endonwithstanley-pc.gov.uk/meetings/full-council-meeting-november-2025/
URL:https://endonwithstanley-pc.gov.uk/meetings/full-council-meeting-november-2025/
END:VEVENT
END:VCALENDAR
